BEGIN:VCALENDAR
VERSION:2.0
PRODID:-//ChamberMaster//Event Calendar 2.0//EN
METHOD:PUBLISH
X-PUBLISHED-TTL:P1H
REFRESH-INTERVAL:P1H
CALSCALE:GREGORIAN
BEGIN:VTIMEZONE
TZID:America/Chicago
BEGIN:DAYLIGHT
RRULE:FREQ=YEARLY;BYMONTH=3;BYDAY=2SU
DTSTART:20070101T000000
TZOFFSETFROM:-0600
TZOFFSETTO:-0500
TZNAME:Central Daylight Time
END:DAYLIGHT
BEGIN:STANDARD
RRULE:FREQ=YEARLY;BYMONTH=11;BYDAY=1SU
DTSTART:20070101T000000
TZOFFSETFROM:-0500
TZOFFSETTO:-0600
TZNAME:Central Standard Time
END:STANDARD
END:VTIMEZONE
BEGIN:VEVENT
DTSTART;TZID=America/Chicago:20270420T113000
DTEND;TZID=America/Chicago:20270420T130000
X-MICROSOFT-CDO-ALLDAYEVENT:FALSE
SUMMARY:South East Tennessee (SETN) Safety & Maintenance Council Meeting
DESCRIPTION:SETN Safety & Maintenance Council (SMC/MC) MeetingDate: The 3rd Tuesday of Every Month\nTime: 11:30 AM - 1:00 PM ET\nLocation: Chattanooga AreaThis is an invitation to the upcoming SETN Safety & Maintenance Council Meeting. We meet on the 3rd Tuesday of every month from 11:30 AM to 1:00 PM ET. We are excited to bring in guest speakers and industry experts to discuss key safety and maintenance topics that impact our industry.Lunch Sponsorship: We are currently seeking a lunch sponsor for our upcoming meetings. If your company is interested in this sponsorship opportunity\, please contact the SETN Chair Meagan Boyd (mboyd@kencogroup.com)Please RSVP early so that we can get an accurate headcount for food. You can register at the provided link. If you need your login credentials\, please email khupp@tntrucking.org.We look forward to seeing you at the next meeting!Thanks\,\nSETN Safety & Maintenance Council Leadership  \nChair: Megan Boyd   Kenco Group\nVice Chair: Antonette Davis   F2F Transport\nSecretary: Eric Nix   Nova Medical Centers
X-ALT-DESC;FMTTYPE=text/html:<!DOCTYPE html><html><head><title></title></head><body aria-disabled="false" data-gr-ext-installed="" data-new-gr-c-s-check-loaded="14.1223.0" data-new-gr-c-s-loaded="14.1223.0" spellcheck="false"><p data-pm-slice="1 1 []"><strong fr-original-style="" style="font-weight: 700\;">SETN Safety &amp\; Maintenance Council (SMC/MC) Meeting</strong></p><p><strong fr-original-style="" style="font-weight: 700\;">Date:</strong> The 3rd Tuesday of Every Month<br><strong fr-original-style="" style="font-weight: 700\;">Time:</strong> 11:30 AM - 1:00 PM ET<br><strong fr-original-style="" style="font-weight: 700\;">Location:&nbsp\;</strong>Chattanooga Area</p><p>This is an invitation to the upcoming SETN Safety &amp\; Maintenance Council Meeting. We meet on the 3rd Tuesday of every month from 11:30 AM to 1:00 PM ET.&nbsp\;</p><p>We are excited to bring in guest speakers and industry experts to discuss key safety and maintenance topics that impact our industry.</p><p><strong fr-original-style="" style="font-weight: 700\;">Lunch Sponsorship:</strong> We are currently seeking a lunch sponsor for our upcoming meetings. If your company is interested in this sponsorship opportunity\, please contact the SETN Chair Meagan Boyd (mboyd@kencogroup.com)</p><p>Please RSVP early so that we can get an accurate headcount for food. You can register at the provided link. If you need your login credentials\, please email <a data-fr-linked="true" fr-original-style="" href="mailto:khupp@tntrucking.org" style="user-select: auto\;">khupp@tntrucking.org</a>.</p><p>We look forward to seeing you at the next meeting!</p><p>Thanks\,</p><p><br></p><p><span style="color: rgb(0\, 0\, 0)\; font-family: Arial\; font-size: medium\; font-style: normal\; font-variant-ligatures: normal\; font-variant-caps: normal\; font-weight: 400\; letter-spacing: normal\; orphans: 2\; text-align: start\; text-indent: 0px\; text-transform: none\; widows: 2\; word-spacing: 0px\; -webkit-text-stroke-width: 0px\; white-space: normal\; text-decoration-thickness: initial\; text-decoration-style: initial\; text-decoration-color: initial\; display: inline !important\; float: none\;"><strong fr-original-style="" style="font-weight: 700\;"><u>SETN Safety &amp\; Maintenance Council Leadership</u></strong></span><strong fr-original-style="" style="font-weight: 700\;"><u>&nbsp\;</u></strong><strong fr-original-style="" style="font-weight: 700\;">&nbsp\;</strong><br><strong fr-original-style="" style="font-weight: 700\;">Chair: </strong>Megan Boyd &ndash\; Kenco Group<br><strong fr-original-style="" style="font-weight: 700\;">Vice Chair:</strong> Antonette Davis &ndash\; F2F Transport<br><strong fr-original-style="" style="font-weight: 700\;">Secretary: </strong>Eric Nix &ndash\; Nova Medical Centers</p><p><br></p><p><br><br></p><p><br></p></body></html>
LOCATION:Chattanooga TN
UID:e.4012.1144221
SEQUENCE:3
DTSTAMP:20260424T185308Z
URL:https://members.tntrucking.org/alleventscalendar/Details/south-east-tennessee-setn-safety-maintenance-council-meeting-1331114?sourceTypeId=Hub
END:VEVENT
END:VCALENDAR
